Workbook
Name tablasst: #REF!

Sheet Data_SST⬇️
G1: BASE DE DATOS A TABAJAR - SSOMA 2026
B5: MES | C5: TRABAJADORES | D5: Área Estratégica | E5: Área de Producción | F5: Área de Soporte | G5: Actos Inseguros | H5: Condiciones Inseguras | I5: Accidentes | J5: Ac. Estrategia | K5: Ac. Producción | L5: Ac. Soporte | M5: Otros Accidentes | N5: Incidentes | O5: In. Estrategia | P5: In. Producción | Q5: In. Soporte | R5: Otros Incidentes | S5: Índice de severidad | T5: Índice de frecuencia | U5: Índice de accidentabilidad | V5: Casos Covid-19 Positivos | W5: Inspecciones Programadas | X5: Inspecciones Ejecutadas | Y5: Capacitaciones Programadas | Z5: Capacitaciones Ejecutadas | AA5: Simulacros Programados | AB5: Simulacros Ejecutados | AC5: PASST Programadas | AD5: PASST Ejecutadas
B6: Enero | C6: =SUM(Data_SST⬇️!$D6:$F6) -> 150 | D6: 14 | E6: 50 | F6: 86 | G6: 16 | H6: 69 | I6: =SUM(Data_SST⬇️!$J6:$M6) -> 5 | J6: 2 | K6: 2 | L6: 1 | M6: 0 | N6: =SUM(Data_SST⬇️!$O6:$R6) -> 7 | O6: 2 | P6: 1 | Q6: 2 | R6: 2 | S6: 0 | T6: 39 | U6: 0 | V6: 3 | W6: 8 | X6: 6 | Y6: 10 | Z6: 8 | AA6: 4 | AB6: 3 | AC6: 15 | AD6: 15
B7: Febrero | C7: =SUM(Data_SST⬇️!$D7:$F7) -> 116 | D7: 15 | E7: 13 | F7: 88 | G7: 31 | H7: 36 | I7: =SUM(Data_SST⬇️!$J7:$M7) -> 1 | J7: 1 | K7: 0 | L7: 0 | M7: 0 | N7: =SUM(Data_SST⬇️!$O7:$R7) -> 9 | O7: 4 | P7: 2 | Q7: 2 | R7: 1 | S7: 0 | T7: 0 | U7: 0 | V7: 12 | W7: 12 | X7: 12 | Y7: 6 | Z7: 6 | AA7: 6 | AB7: 6 | AC7: 20 | AD7: 18
B8: Marzo | C8: =SUM(Data_SST⬇️!$D8:$F8) -> 120 | D8: 17 | E8: 17 | F8: 86 | G8: 38 | H8: 63 | I8: =SUM(Data_SST⬇️!$J8:$M8) -> 3 | J8: 2 | K8: 0 | L8: 1 | M8: 0 | N8: =SUM(Data_SST⬇️!$O8:$R8) -> 7 | O8: 6 | P8: 0 | Q8: 0 | R8: 1 | S8: 92.34 | T8: 34 | U8: 3 | V8: 2 | W8: 7 | X8: 6 | Y8: 6 | Z8: 6 | AA8: 1 | AB8: 1 | AC8: 23 | AD8: 21
B9: Abril | C9: =SUM(Data_SST⬇️!$D9:$F9) -> 110 | D9: 15 | E9: 19 | F9: 76 | G9: 55 | H9: 65 | I9: =SUM(Data_SST⬇️!$J9:$M9) -> 2 | J9: 2 | K9: 0 | L9: 0 | M9: 0 | N9: =SUM(Data_SST⬇️!$O9:$R9) -> 6 | O9: 2 | P9: 3 | Q9: 1 | R9: 0 | S9: 0 | T9: 0 | U9: 0 | V9: 0 | W9: 5 | X9: 4 | Y9: 5 | Z9: 2 | AA9: 4 | AB9: 4 | AC9: 20 | AD9: 20
B10: Mayo | C10: =SUM(Data_SST⬇️!$D10:$F10) -> 115 | D10: 20 | E10: 21 | F10: 74 | G10: 38 | H10: 10 | I10: =SUM(Data_SST⬇️!$J10:$M10) -> 1 | J10: 1 | K10: 0 | L10: 0 | M10: 0 | N10: =SUM(Data_SST⬇️!$O10:$R10) -> 10 | O10: 8 | P10: 1 | Q10: 0 | R10: 1 | S10: 0 | T10: 0 | U10: 0 | V10: 0 | W10: 9 | X10: 6 | Y10: 8 | Z10: 7 | AA10: 7 | AB10: 2 | AC10: 26 | AD10: 25
B11: Junio | C11: =SUM(Data_SST⬇️!$D11:$F11) -> 105 | D11: 19 | E11: 11 | F11: 75 | G11: 22 | H11: 39 | I11: =SUM(Data_SST⬇️!$J11:$M11) -> 3 | J11: 0 | K11: 2 | L11: 0 | M11: 1 | N11: =SUM(Data_SST⬇️!$O11:$R11) -> 5 | O11: 1 | P11: 2 | Q11: 2 | R11: 0 | S11: 120 | T11: 91 | U11: 11 | V11: 3 | W11: 12 | X11: 10 | Y11: 3 | Z11: 3 | AA11: 1 | AB11: 1 | AC11: 30 | AD11: 28
B12: Julio | C12: =SUM(Data_SST⬇️!$D12:$F12) -> 109 | D12: 18 | E12: 17 | F12: 74 | G12: 28 | H12: 80 | I12: =SUM(Data_SST⬇️!$J12:$M12) -> 0 | J12: 0 | K12: 0 | L12: 0 | M12: 0 | N12: =SUM(Data_SST⬇️!$O12:$R12) -> 6 | O12: 2 | P12: 1 | Q12: 0 | R12: 3 | S12: 150 | T12: 0 | U12: 0 | V12: 2 | W12: 5 | X12: 5 | Y12: 2 | Z12: 2 | AA12: 2 | AB12: 1 | AC12: 19 | AD12: 19
B13: Agosto | C13: =SUM(Data_SST⬇️!$D13:$F13) -> 132 | D13: 30 | E13: 17 | F13: 85 | G13: 18 | H13: 68 | I13: =SUM(Data_SST⬇️!$J13:$M13) -> 3 | J13: 1 | K13: 1 | L13: 0 | M13: 1 | N13: =SUM(Data_SST⬇️!$O13:$R13) -> 4 | O13: 3 | P13: 0 | Q13: 1 | R13: 0 | S13: 0 | T13: 0 | U13: 0 | V13: 0 | W13: 7 | X13: 6 | Y13: 2 | Z13: 2 | AA13: 7 | AB13: 7 | AC13: 27 | AD13: 27
B14: Septiembre | C14: =SUM(Data_SST⬇️!$D14:$F14) -> 132 | D14: 28 | E14: 17 | F14: 87 | G14: 81 | H14: 37 | I14: =SUM(Data_SST⬇️!$J14:$M14) -> 6 | J14: 2 | K14: 3 | L14: 0 | M14: 1 | N14: =SUM(Data_SST⬇️!$O14:$R14) -> 3 | O14: 2 | P14: 0 | Q14: 0 | R14: 1 | S14: 155 | T14: 92 | U14: 12 | V14: 1 | W14: 6 | X14: 5 | Y14: 3 | Z14: 2 | AA14: 4 | AB14: 3 | AC14: 28 | AD14: 28
B15: Octubre | C15: =SUM(Data_SST⬇️!$D15:$F15) -> 130 | D15: 27 | E15: 15 | F15: 88 | G15: 39 | H15: 84 | I15: =SUM(Data_SST⬇️!$J15:$M15) -> 2 | J15: 1 | K15: 1 | L15: 0 | M15: 0 | N15: =SUM(Data_SST⬇️!$O15:$R15) -> 3 | O15: 2 | P15: 0 | Q15: 0 | R15: 1 | S15: 140 | T15: 90 | U15: 18 | V15: 3 | W15: 8 | X15: 3 | Y15: 6 | Z15: 5 | AA15: 2 | AB15: 1 | AC15: 25 | AD15: 24
B16: Noviembre | C16: =SUM(Data_SST⬇️!$D16:$F16) -> 111 | D16: 15 | E16: 16 | F16: 80 | G16: 13 | H16: 44 | I16: =SUM(Data_SST⬇️!$J16:$M16) -> 2 | J16: 0 | K16: 0 | L16: 1 | M16: 1 | N16: =SUM(Data_SST⬇️!$O16:$R16) -> 4 | O16: 3 | P16: 1 | Q16: 0 | R16: 0 | S16: 42 | T16: 52 | U16: 3 | V16: 1 | W16: 9 | X16: 3 | Y16: 3 | Z16: 2 | AA16: 5 | AB16: 4 | AC16: 18 | AD16: 17
B17: Diciembre | C17: =SUM(Data_SST⬇️!$D17:$F17) -> 134 | D17: 25 | E17: 20 | F17: 89 | G17: 23 | H17: 36 | I17: =SUM(Data_SST⬇️!$J17:$M17) -> 1 | J17: 1 | K17: 0 | L17: 0 | M17: 0 | N17: =SUM(Data_SST⬇️!$O17:$R17) -> 6 | O17: 2 | P17: 3 | Q17: 0 | R17: 1 | S17: 85 | T17: 140 | U17: 15 | V17: 1 | W17: 10 | X17: 10 | Y17: 1 | Z17: 1 | AA17: 2 | AB17: 2 | AC17: 20 | AD17: 19

Sheet Dashboard📊
B2: DASHBOARD DE SEGUIMIENTO SST - 2026
AA3: CÁLCULOS EN LAS TABLAS DINÁMICAS
AA5: 01: Colaboradores
AA10: 02: Gráfico de distribución
AA24: 03: Proactivos
AD26: %_Inspecciones
AD29: %_Inspecciones
AD32: %_Inspecciones
AA35: 04: Accidentes
AA40: 05: Distribución de actos y condiciones
AA45: 06: Tendencia de reportes
