Workbook

Sheet BasedeDatos_SST
D1: BASE DE DATOS A TRABAJAR - SSOMA 2026
C4: ID | D4: MES | E4: TRABAJADORES | F4: Área Estratégica | G4: Área de Producción | H4: Área de Soporte | I4: Actos Inseguros | J4: Condiciones Inseguras | K4: Accidentes | L4: Ac. Estrategia | M4: Ac. Producción | N4: Ac. Soporte | O4: Otros Accidentes | P4: Incidentes | Q4: In. Estrategia | R4: In. Producción | S4: In. Soporte | T4: Otros Incidentes | U4: Índice de severidad | V4: Índice de frecuencia | W4: Índice de accidentabilidad | X4: Casos Covid-19 Positivos | Y4: Inspecciones Programadas | Z4: Inspecciones Ejecutadas | AA4: Capacitaciones Programadas | AB4: Capacitaciones Ejecutadas | AC4: Simulacros Programados | AD4: Simulacros Ejecutados | AE4: PASST Programadas | AF4: PASST Ejecutadas
C6: 1 | D6: Enero | E6: =SUM(BasedeDatos_SST!$F6:$H6) -> 150 | F6: 14 | G6: 50 | H6: 86 | I6: 16 | J6: 69 | K6: =SUM(BasedeDatos_SST!$L6:$O6) -> 5 | L6: 2 | M6: 2 | N6: 1 | O6: 0 | P6: =SUM(BasedeDatos_SST!$Q6:$T6) -> 7 | Q6: 2 | R6: 1 | S6: 2 | T6: 2 | U6: 0 | V6: 39 | W6: 0 | X6: 3 | Y6: 8 | Z6: 6 | AA6: 10 | AB6: 8 | AC6: 4 | AD6: 3 | AE6: 15 | AF6: 15
C7: 2 | D7: Febrero | E7: =SUM(BasedeDatos_SST!$F7:$H7) -> 116 | F7: 15 | G7: 13 | H7: 88 | I7: 31 | J7: 36 | K7: =SUM(BasedeDatos_SST!$L7:$O7) -> 1 | L7: 1 | M7: 0 | N7: 0 | O7: 0 | P7: =SUM(BasedeDatos_SST!$Q7:$T7) -> 9 | Q7: 4 | R7: 2 | S7: 2 | T7: 1 | U7: 0 | V7: 0 | W7: 0 | X7: 12 | Y7: 12 | Z7: 12 | AA7: 6 | AB7: 6 | AC7: 6 | AD7: 6 | AE7: 20 | AF7: 18
C8: 3 | D8: Marzo | E8: =SUM(BasedeDatos_SST!$F8:$H8) -> 120 | F8: 17 | G8: 17 | H8: 86 | I8: 38 | J8: 63 | K8: =SUM(BasedeDatos_SST!$L8:$O8) -> 3 | L8: 2 | M8: 0 | N8: 1 | O8: 0 | P8: =SUM(BasedeDatos_SST!$Q8:$T8) -> 7 | Q8: 6 | R8: 0 | S8: 0 | T8: 1 | U8: 92.34 | V8: 34 | W8: 3 | X8: 2 | Y8: 7 | Z8: 6 | AA8: 6 | AB8: 6 | AC8: 1 | AD8: 1 | AE8: 23 | AF8: 21
C9: 4 | D9: Abril | E9: =SUM(BasedeDatos_SST!$F9:$H9) -> 110 | F9: 15 | G9: 19 | H9: 76 | I9: 55 | J9: 65 | K9: =SUM(BasedeDatos_SST!$L9:$O9) -> 2 | L9: 2 | M9: 0 | N9: 0 | O9: 0 | P9: =SUM(BasedeDatos_SST!$Q9:$T9) -> 6 | Q9: 2 | R9: 3 | S9: 1 | T9: 0 | U9: 0 | V9: 0 | W9: 0 | X9: 0 | Y9: 5 | Z9: 4 | AA9: 5 | AB9: 2 | AC9: 4 | AD9: 4 | AE9: 20 | AF9: 20
C10: 5 | D10: Mayo | E10: =SUM(BasedeDatos_SST!$F10:$H10) -> 115 | F10: 20 | G10: 21 | H10: 74 | I10: 38 | J10: 10 | K10: =SUM(BasedeDatos_SST!$L10:$O10) -> 1 | L10: 1 | M10: 0 | N10: 0 | O10: 0 | P10: =SUM(BasedeDatos_SST!$Q10:$T10) -> 10 | Q10: 8 | R10: 1 | S10: 0 | T10: 1 | U10: 0 | V10: 0 | W10: 0 | X10: 0 | Y10: 9 | Z10: 6 | AA10: 8 | AB10: 7 | AC10: 7 | AD10: 2 | AE10: 26 | AF10: 25
C11: 6 | D11: Junio | E11: =SUM(BasedeDatos_SST!$F11:$H11) -> 105 | F11: 19 | G11: 11 | H11: 75 | I11: 22 | J11: 39 | K11: =SUM(BasedeDatos_SST!$L11:$O11) -> 3 | L11: 0 | M11: 2 | N11: 0 | O11: 1 | P11: =SUM(BasedeDatos_SST!$Q11:$T11) -> 5 | Q11: 1 | R11: 2 | S11: 2 | T11: 0 | U11: 120 | V11: 91 | W11: 11 | X11: 3 | Y11: 12 | Z11: 10 | AA11: 3 | AB11: 3 | AC11: 1 | AD11: 1 | AE11: 30 | AF11: 28
C12: 7 | D12: Julio | E12: =SUM(BasedeDatos_SST!$F12:$H12) -> 109 | F12: 18 | G12: 17 | H12: 74 | I12: 28 | J12: 80 | K12: =SUM(BasedeDatos_SST!$L12:$O12) -> 0 | L12: 0 | M12: 0 | N12: 0 | O12: 0 | P12: =SUM(BasedeDatos_SST!$Q12:$T12) -> 6 | Q12: 2 | R12: 1 | S12: 0 | T12: 3 | U12: 150 | V12: 0 | W12: 0 | X12: 2 | Y12: 5 | Z12: 5 | AA12: 2 | AB12: 2 | AC12: 2 | AD12: 1 | AE12: 19 | AF12: 19
C13: 8 | D13: Agosto | E13: =SUM(BasedeDatos_SST!$F13:$H13) -> 132 | F13: 30 | G13: 17 | H13: 85 | I13: 18 | J13: 68 | K13: =SUM(BasedeDatos_SST!$L13:$O13) -> 3 | L13: 1 | M13: 1 | N13: 0 | O13: 1 | P13: =SUM(BasedeDatos_SST!$Q13:$T13) -> 4 | Q13: 3 | R13: 0 | S13: 1 | T13: 0 | U13: 0 | V13: 0 | W13: 0 | X13: 0 | Y13: 7 | Z13: 6 | AA13: 2 | AB13: 2 | AC13: 7 | AD13: 7 | AE13: 27 | AF13: 27
C14: 9 | D14: Septiembre | E14: =SUM(BasedeDatos_SST!$F14:$H14) -> 132 | F14: 28 | G14: 17 | H14: 87 | I14: 81 | J14: 37 | K14: =SUM(BasedeDatos_SST!$L14:$O14) -> 6 | L14: 2 | M14: 3 | N14: 0 | O14: 1 | P14: =SUM(BasedeDatos_SST!$Q14:$T14) -> 3 | Q14: 2 | R14: 0 | S14: 0 | T14: 1 | U14: 155 | V14: 92 | W14: 12 | X14: 1 | Y14: 6 | Z14: 5 | AA14: 3 | AB14: 2 | AC14: 4 | AD14: 3 | AE14: 28 | AF14: 28
C15: 10 | D15: Octubre | E15: =SUM(BasedeDatos_SST!$F15:$H15) -> 130 | F15: 27 | G15: 15 | H15: 88 | I15: 39 | J15: 84 | K15: =SUM(BasedeDatos_SST!$L15:$O15) -> 2 | L15: 1 | M15: 1 | N15: 0 | O15: 0 | P15: =SUM(BasedeDatos_SST!$Q15:$T15) -> 3 | Q15: 2 | R15: 0 | S15: 0 | T15: 1 | U15: 140 | V15: 90 | W15: 18 | X15: 3 | Y15: 8 | Z15: 3 | AA15: 6 | AB15: 5 | AC15: 2 | AD15: 1 | AE15: 25 | AF15: 24
C16: 11 | D16: Noviembre | E16: =SUM(BasedeDatos_SST!$F16:$H16) -> 111 | F16: 15 | G16: 16 | H16: 80 | I16: 13 | J16: 44 | K16: =SUM(BasedeDatos_SST!$L16:$O16) -> 2 | L16: 0 | M16: 0 | N16: 1 | O16: 1 | P16: =SUM(BasedeDatos_SST!$Q16:$T16) -> 4 | Q16: 3 | R16: 1 | S16: 0 | T16: 0 | U16: 42 | V16: 52 | W16: 3 | X16: 1 | Y16: 9 | Z16: 3 | AA16: 3 | AB16: 2 | AC16: 5 | AD16: 4 | AE16: 18 | AF16: 17
C17: 12 | D17: Diciembre | E17: =SUM(BasedeDatos_SST!$F17:$H17) -> 134 | F17: 25 | G17: 20 | H17: 89 | I17: 23 | J17: 36 | K17: =SUM(BasedeDatos_SST!$L17:$O17) -> 1 | L17: 1 | M17: 0 | N17: 0 | O17: 0 | P17: =SUM(BasedeDatos_SST!$Q17:$T17) -> 6 | Q17: 2 | R17: 3 | S17: 0 | T17: 1 | U17: 85 | V17: 140 | W17: 15 | X17: 1 | Y17: 10 | Z17: 10 | AA17: 1 | AB17: 1 | AC17: 2 | AD17: 2 | AE17: 20 | AF17: 19
